BEGIN:VCALENDAR
VERSION:2.0
PRODID:-//Turnverein Alsergrund - ECPv6.15.16//NONSGML v1.0//EN
CALSCALE:GREGORIAN
METHOD:PUBLISH
X-ORIGINAL-URL:https://tv-alsergrund.at
X-WR-CALDESC:Events for Turnverein Alsergrund
REFRESH-INTERVAL;VALUE=DURATION:PT1H
X-Robots-Tag:noindex
X-PUBLISHED-TTL:PT1H
BEGIN:VTIMEZONE
TZID:Europe/Vienna
BEGIN:DAYLIGHT
TZOFFSETFROM:+0100
TZOFFSETTO:+0200
TZNAME:CEST
DTSTART:20160327T010000
END:DAYLIGHT
BEGIN:STANDARD
TZOFFSETFROM:+0200
TZOFFSETTO:+0100
TZNAME:CET
DTSTART:20161030T010000
END:STANDARD
BEGIN:DAYLIGHT
TZOFFSETFROM:+0100
TZOFFSETTO:+0200
TZNAME:CEST
DTSTART:20170326T010000
END:DAYLIGHT
BEGIN:STANDARD
TZOFFSETFROM:+0200
TZOFFSETTO:+0100
TZNAME:CET
DTSTART:20171029T010000
END:STANDARD
BEGIN:DAYLIGHT
TZOFFSETFROM:+0100
TZOFFSETTO:+0200
TZNAME:CEST
DTSTART:20180325T010000
END:DAYLIGHT
BEGIN:STANDARD
TZOFFSETFROM:+0200
TZOFFSETTO:+0100
TZNAME:CET
DTSTART:20181028T010000
END:STANDARD
END:VTIMEZONE
BEGIN:VEVENT
DTSTART;TZID=Europe/Vienna:20171020T190000
DTEND;TZID=Europe/Vienna:20171020T210000
DTSTAMP:20260424T151634
CREATED:20170828T111343Z
LAST-MODIFIED:20170828T111343Z
UID:2397-1508526000-1508533200@tv-alsergrund.at
SUMMARY:Turnratssitzung ÖTB Wien
DESCRIPTION:Meldeschluss:
URL:https://tv-alsergrund.at/veranstaltung/turnratssitzung-oetb-wien/
LOCATION:Ferdinandstraße 26\, Ferdinandstraße 26\, Wien\, 1020\, United States
END:VEVENT
END:VCALENDAR