BEGIN:VCALENDAR
VERSION:2.0
PRODID:-//Turnverein Alsergrund - ECPv6.15.16//NONSGML v1.0//EN
CALSCALE:GREGORIAN
METHOD:PUBLISH
X-ORIGINAL-URL:https://tv-alsergrund.at
X-WR-CALDESC:Events for Turnverein Alsergrund
REFRESH-INTERVAL;VALUE=DURATION:PT1H
X-Robots-Tag:noindex
X-PUBLISHED-TTL:PT1H
BEGIN:VTIMEZONE
TZID:Europe/Vienna
BEGIN:DAYLIGHT
TZOFFSETFROM:+0100
TZOFFSETTO:+0200
TZNAME:CEST
DTSTART:20180325T010000
END:DAYLIGHT
BEGIN:STANDARD
TZOFFSETFROM:+0200
TZOFFSETTO:+0100
TZNAME:CET
DTSTART:20181028T010000
END:STANDARD
BEGIN:DAYLIGHT
TZOFFSETFROM:+0100
TZOFFSETTO:+0200
TZNAME:CEST
DTSTART:20190331T010000
END:DAYLIGHT
BEGIN:STANDARD
TZOFFSETFROM:+0200
TZOFFSETTO:+0100
TZNAME:CET
DTSTART:20191027T010000
END:STANDARD
BEGIN:DAYLIGHT
TZOFFSETFROM:+0100
TZOFFSETTO:+0200
TZNAME:CEST
DTSTART:20200329T010000
END:DAYLIGHT
BEGIN:STANDARD
TZOFFSETFROM:+0200
TZOFFSETTO:+0100
TZNAME:CET
DTSTART:20201025T010000
END:STANDARD
END:VTIMEZONE
BEGIN:VEVENT
DTSTART;TZID=Europe/Vienna:20191110T080000
DTEND;TZID=Europe/Vienna:20191110T160000
DTSTAMP:20260421T100634
CREATED:20191022T184305Z
LAST-MODIFIED:20191022T184305Z
UID:5419-1573372800-1573401600@tv-alsergrund.at
SUMMARY:Mannschaftswettkampf der Turnerinnen 2019
DESCRIPTION:
URL:https://tv-alsergrund.at/veranstaltung/mannschaftswettkampf-der-turnerinnen-2019/
LOCATION:Schleifmühlgasse 23\, Schleifmühlgasse 23\, Wien\, 1040\, United States
END:VEVENT
END:VCALENDAR