BEGIN:VCALENDAR
VERSION:2.0
PRODID:-//Turnverein Alsergrund - ECPv6.15.16//NONSGML v1.0//EN
CALSCALE:GREGORIAN
METHOD:PUBLISH
X-WR-CALNAME:Turnverein Alsergrund
X-ORIGINAL-URL:https://tv-alsergrund.at
X-WR-CALDESC:Events for Turnverein Alsergrund
REFRESH-INTERVAL;VALUE=DURATION:PT1H
X-Robots-Tag:noindex
X-PUBLISHED-TTL:PT1H
BEGIN:VTIMEZONE
TZID:Europe/Berlin
BEGIN:DAYLIGHT
TZOFFSETFROM:+0100
TZOFFSETTO:+0200
TZNAME:CEST
DTSTART:20160327T010000
END:DAYLIGHT
BEGIN:STANDARD
TZOFFSETFROM:+0200
TZOFFSETTO:+0100
TZNAME:CET
DTSTART:20161030T010000
END:STANDARD
BEGIN:DAYLIGHT
TZOFFSETFROM:+0100
TZOFFSETTO:+0200
TZNAME:CEST
DTSTART:20170326T010000
END:DAYLIGHT
BEGIN:STANDARD
TZOFFSETFROM:+0200
TZOFFSETTO:+0100
TZNAME:CET
DTSTART:20171029T010000
END:STANDARD
BEGIN:DAYLIGHT
TZOFFSETFROM:+0100
TZOFFSETTO:+0200
TZNAME:CEST
DTSTART:20180325T010000
END:DAYLIGHT
BEGIN:STANDARD
TZOFFSETFROM:+0200
TZOFFSETTO:+0100
TZNAME:CET
DTSTART:20181028T010000
END:STANDARD
END:VTIMEZONE
BEGIN:VEVENT
DTSTART;TZID=Europe/Berlin:20170513T100000
DTEND;TZID=Europe/Berlin:20170513T160000
DTSTAMP:20260420T054246
CREATED:20170421T154732Z
LAST-MODIFIED:20170424T142955Z
UID:1769-1494669600-1494691200@tv-alsergrund.at
SUMMARY:ÖTB Wien Leichtathletik-Meisterschaft
DESCRIPTION:
URL:https://tv-alsergrund.at/veranstaltung/oetb-wien-leichtathletikmeisterschaft/
LOCATION:Grenzackerstrasse\, Grenzackerstrasse 23\, Wien\, Wien\, 1100\, Österreich
END:VEVENT
BEGIN:VEVENT
DTSTART;VALUE=DATE:20170507
DTEND;VALUE=DATE:20170508
DTSTAMP:20260420T054246
CREATED:20170130T095734Z
LAST-MODIFIED:20170130T220132Z
UID:1182-1494115200-1494201599@tv-alsergrund.at
SUMMARY:Johann-Pichler-Crosslauf
DESCRIPTION:
URL:https://tv-alsergrund.at/veranstaltung/johann-pichler-crosslauf/
LOCATION:Birkenwiese\, Birkenwiese 1859/2\, 1020 Wien\, Wien\, 1020\, Österreich
END:VEVENT
BEGIN:VEVENT
DTSTART;TZID=Europe/Berlin:20170430T100000
DTEND;TZID=Europe/Berlin:20170430T160000
DTSTAMP:20260420T054246
CREATED:20170421T153424Z
LAST-MODIFIED:20170421T153424Z
UID:1760-1493546400-1493568000@tv-alsergrund.at
SUMMARY:Lauf Langenzersdorf - Seeschlacht
DESCRIPTION:
URL:https://tv-alsergrund.at/veranstaltung/lauf-langenzersdorf-seeschlacht/
END:VEVENT
BEGIN:VEVENT
DTSTART;TZID=Europe/Berlin:20170422T141500
DTEND;TZID=Europe/Berlin:20170422T210000
DTSTAMP:20260420T054246
CREATED:20170306T164756Z
LAST-MODIFIED:20170306T164756Z
UID:1605-1492870500-1492894800@tv-alsergrund.at
SUMMARY:ÖTB Wien Volleyballmeisterschaft
DESCRIPTION:
URL:https://tv-alsergrund.at/veranstaltung/oetb-wien-volleyballmeisterschaft/
LOCATION:Florian Hedorfer Halle\, Florian Hederfer-Straße 24\, Wien\, Wien\, 1110\, Österreich
END:VEVENT
BEGIN:VEVENT
DTSTART;TZID=Europe/Berlin:20170402T080000
DTEND;TZID=Europe/Berlin:20170402T180000
DTSTAMP:20260420T054246
CREATED:20170306T164503Z
LAST-MODIFIED:20170306T164503Z
UID:1601-1491120000-1491156000@tv-alsergrund.at
SUMMARY:Gerätturnwettkampf Turn 10!
DESCRIPTION:
URL:https://tv-alsergrund.at/veranstaltung/geraetturnwettkampf-turn-10/
LOCATION:EWTV\, Schleifmühlgasse 23\, Wien\, Wien\, 1040\, Österreich
END:VEVENT
BEGIN:VEVENT
DTSTART;TZID=Europe/Berlin:20170318T170000
DTEND;TZID=Europe/Berlin:20170318T190000
DTSTAMP:20260420T054246
CREATED:20170306T164216Z
LAST-MODIFIED:20170306T164216Z
UID:1596-1489856400-1489863600@tv-alsergrund.at
SUMMARY:Schauturnen MTV Klosterneuburg
DESCRIPTION:
URL:https://tv-alsergrund.at/veranstaltung/schauturnen-mtv-klosterneuburg/
LOCATION:Klosterneuburg\, Klosterneuburg\, Klosterneuburg\, 3400\, United States
END:VEVENT
BEGIN:VEVENT
DTSTART;TZID=Europe/Berlin:20170318T140000
DTEND;TZID=Europe/Berlin:20170318T183000
DTSTAMP:20260420T054246
CREATED:20170223T124814Z
LAST-MODIFIED:20170223T124814Z
UID:1449-1489845600-1489861800@tv-alsergrund.at
SUMMARY:ÖTB Wien Basketballmeisterschaft
DESCRIPTION:ÖTB Wien Basketballmeisterschaft
URL:https://tv-alsergrund.at/veranstaltung/oetb-wien-basketballmeisterschaft/
LOCATION:Wien
END:VEVENT
BEGIN:VEVENT
DTSTART;VALUE=DATE:20170317
DTEND;VALUE=DATE:20170318
DTSTAMP:20260420T054246
CREATED:20170130T090653Z
LAST-MODIFIED:20170130T094412Z
UID:1166-1489708800-1489795199@tv-alsergrund.at
SUMMARY:Voranmeldeschluss für das 13. Bundesturnfest
DESCRIPTION:Bitte die Meldung für die Teilnahme am Turnfest einem der Kontaktpersonen bekannt geben.
URL:https://tv-alsergrund.at/veranstaltung/voranmeldeschluss-fuer-das-13-bundesturnfest/
END:VEVENT
BEGIN:VEVENT
DTSTART;VALUE=DATE:20170305
DTEND;VALUE=DATE:20170306
DTSTAMP:20260420T054246
CREATED:20170223T123351Z
LAST-MODIFIED:20170223T123629Z
UID:1441-1488672000-1488758399@tv-alsergrund.at
SUMMARY:Ski & Snowboardrennen
DESCRIPTION:ÖTB Wien Alpin Ski & Snowboardrennen und Ski & Snowboardcross
URL:https://tv-alsergrund.at/veranstaltung/1441/
END:VEVENT
END:VCALENDAR