BEGIN:VCALENDAR
VERSION:2.0
PRODID:-//Turnverein Alsergrund - ECPv6.15.16//NONSGML v1.0//EN
CALSCALE:GREGORIAN
METHOD:PUBLISH
X-WR-CALNAME:Turnverein Alsergrund
X-ORIGINAL-URL:https://tv-alsergrund.at
X-WR-CALDESC:Events for Turnverein Alsergrund
REFRESH-INTERVAL;VALUE=DURATION:PT1H
X-Robots-Tag:noindex
X-PUBLISHED-TTL:PT1H
BEGIN:VTIMEZONE
TZID:Europe/Vienna
BEGIN:DAYLIGHT
TZOFFSETFROM:+0100
TZOFFSETTO:+0200
TZNAME:CEST
DTSTART:20160327T010000
END:DAYLIGHT
BEGIN:STANDARD
TZOFFSETFROM:+0200
TZOFFSETTO:+0100
TZNAME:CET
DTSTART:20161030T010000
END:STANDARD
BEGIN:DAYLIGHT
TZOFFSETFROM:+0100
TZOFFSETTO:+0200
TZNAME:CEST
DTSTART:20170326T010000
END:DAYLIGHT
BEGIN:STANDARD
TZOFFSETFROM:+0200
TZOFFSETTO:+0100
TZNAME:CET
DTSTART:20171029T010000
END:STANDARD
BEGIN:DAYLIGHT
TZOFFSETFROM:+0100
TZOFFSETTO:+0200
TZNAME:CEST
DTSTART:20180325T010000
END:DAYLIGHT
BEGIN:STANDARD
TZOFFSETFROM:+0200
TZOFFSETTO:+0100
TZNAME:CET
DTSTART:20181028T010000
END:STANDARD
BEGIN:DAYLIGHT
TZOFFSETFROM:+0100
TZOFFSETTO:+0200
TZNAME:CEST
DTSTART:20190331T010000
END:DAYLIGHT
BEGIN:STANDARD
TZOFFSETFROM:+0200
TZOFFSETTO:+0100
TZNAME:CET
DTSTART:20191027T010000
END:STANDARD
END:VTIMEZONE
BEGIN:VTIMEZONE
TZID:Europe/Berlin
BEGIN:DAYLIGHT
TZOFFSETFROM:+0100
TZOFFSETTO:+0200
TZNAME:CEST
DTSTART:20160327T010000
END:DAYLIGHT
BEGIN:STANDARD
TZOFFSETFROM:+0200
TZOFFSETTO:+0100
TZNAME:CET
DTSTART:20161030T010000
END:STANDARD
BEGIN:DAYLIGHT
TZOFFSETFROM:+0100
TZOFFSETTO:+0200
TZNAME:CEST
DTSTART:20170326T010000
END:DAYLIGHT
BEGIN:STANDARD
TZOFFSETFROM:+0200
TZOFFSETTO:+0100
TZNAME:CET
DTSTART:20171029T010000
END:STANDARD
BEGIN:DAYLIGHT
TZOFFSETFROM:+0100
TZOFFSETTO:+0200
TZNAME:CEST
DTSTART:20180325T010000
END:DAYLIGHT
BEGIN:STANDARD
TZOFFSETFROM:+0200
TZOFFSETTO:+0100
TZNAME:CET
DTSTART:20181028T010000
END:STANDARD
BEGIN:DAYLIGHT
TZOFFSETFROM:+0100
TZOFFSETTO:+0200
TZNAME:CEST
DTSTART:20190331T010000
END:DAYLIGHT
BEGIN:STANDARD
TZOFFSETFROM:+0200
TZOFFSETTO:+0100
TZNAME:CET
DTSTART:20191027T010000
END:STANDARD
END:VTIMEZONE
BEGIN:VEVENT
DTSTART;TZID=Europe/Vienna:20180310T140000
DTEND;TZID=Europe/Vienna:20180310T200000
DTSTAMP:20260419T234948
CREATED:20180115T102648Z
LAST-MODIFIED:20180115T102648Z
UID:2950-1520690400-1520712000@tv-alsergrund.at
SUMMARY:Basketballmeisterschaft
DESCRIPTION:
URL:https://tv-alsergrund.at/veranstaltung/basketballmeisterschaft/
END:VEVENT
BEGIN:VEVENT
DTSTART;TZID=Europe/Berlin:20180309T180000
DTEND;TZID=Europe/Berlin:20180309T200000
DTSTAMP:20260419T234948
CREATED:20180220T154759Z
LAST-MODIFIED:20180220T161034Z
UID:3034-1520618400-1520625600@tv-alsergrund.at
SUMMARY:Hauptversammlung des Turnverein Alsergrund
DESCRIPTION:Liebe Mitglieder\, \nWir möchten Euch nochmals recht herzlich zur Hauptversammlung 2018 des Turnverein-Alsergrund einladen. \nWann?: 09. März 2018\nEinlass ab 17:45 Uhr\nBeginn ca. 18:00 Uhr \nWo?: Im Vereinsheim\nBleichergasse 11\, 1090 Wien \nWir hoffe dass Ihr euch den Termin frei gehalten könnt und bitten um zahlreiches Erscheinen. \nWeiter Informationen: Hauptversammlung TV-Alsergrund 2018
URL:https://tv-alsergrund.at/veranstaltung/hauptversammlung-des-turnverein-alsergrund/
LOCATION:Bleichergasse 11\, Bleichergasse 11\, Wien\, 1090\, Österreich
END:VEVENT
BEGIN:VEVENT
DTSTART;TZID=Europe/Vienna:20180303T193000
DTEND;TZID=Europe/Vienna:20180304T030000
DTSTAMP:20260419T234948
CREATED:20180115T102644Z
LAST-MODIFIED:20180115T102644Z
UID:2949-1520105400-1520132400@tv-alsergrund.at
SUMMARY:Dirndlball
DESCRIPTION:
URL:https://tv-alsergrund.at/veranstaltung/dirndlball/
END:VEVENT
BEGIN:VEVENT
DTSTART;TZID=Europe/Vienna:20180225T100000
DTEND;TZID=Europe/Vienna:20180225T170000
DTSTAMP:20260419T234948
CREATED:20180115T102644Z
LAST-MODIFIED:20180115T102644Z
UID:2948-1519552800-1519578000@tv-alsergrund.at
SUMMARY:Prellballmeisterschaft
DESCRIPTION:
URL:https://tv-alsergrund.at/veranstaltung/prellballmeisterschaft-2/
END:VEVENT
BEGIN:VEVENT
DTSTART;TZID=Europe/Vienna:20180223T180000
DTEND;TZID=Europe/Vienna:20180225T160000
DTSTAMP:20260419T234948
CREATED:20180115T102644Z
LAST-MODIFIED:20180115T102644Z
UID:2947-1519408800-1519574400@tv-alsergrund.at
SUMMARY:Jugend steigt auf
DESCRIPTION:
URL:https://tv-alsergrund.at/veranstaltung/jugend-steigt-auf/
END:VEVENT
BEGIN:VEVENT
DTSTART;TZID=Europe/Vienna:20180218T103000
DTEND;TZID=Europe/Vienna:20180218T160000
DTSTAMP:20260419T234948
CREATED:20180115T102643Z
LAST-MODIFIED:20180115T102643Z
UID:2946-1518949800-1518969600@tv-alsergrund.at
SUMMARY:Schirennen ATV Grinzing
DESCRIPTION:
URL:https://tv-alsergrund.at/veranstaltung/schirennen-atv-grinzing/
END:VEVENT
BEGIN:VEVENT
DTSTART;TZID=Europe/Vienna:20180127T084000
DTEND;TZID=Europe/Vienna:20180128T153500
DTSTAMP:20260419T234948
CREATED:20180115T102643Z
LAST-MODIFIED:20180115T102643Z
UID:2945-1517042400-1517153700@tv-alsergrund.at
SUMMARY:Jugendlager Nachbesprechung
DESCRIPTION:
URL:https://tv-alsergrund.at/veranstaltung/jugendlager-nachbesprechung/
END:VEVENT
BEGIN:VEVENT
DTSTART;TZID=Europe/Vienna:20180126T180000
DTEND;TZID=Europe/Vienna:20180126T220000
DTSTAMP:20260419T234948
CREATED:20171124T155431Z
LAST-MODIFIED:20171124T155431Z
UID:2882-1516989600-1517004000@tv-alsergrund.at
SUMMARY:Singabend in fröhlicher Runde
DESCRIPTION:Meldeschluss:
URL:https://tv-alsergrund.at/veranstaltung/singabend-in-froehlicher-runde/
LOCATION:Hyrtlgasse 26\, Hyrtlgasse 26\, Wien\, 1160\, United States
END:VEVENT
BEGIN:VEVENT
DTSTART;TZID=Europe/Vienna:20180114T090000
DTEND;TZID=Europe/Vienna:20180114T180000
DTSTAMP:20260419T234948
CREATED:20171124T155431Z
LAST-MODIFIED:20171124T155431Z
UID:2881-1515920400-1515952800@tv-alsergrund.at
SUMMARY:24. Schießwettkampf
DESCRIPTION:Meldeschluss: 08.01.2018  10:00
URL:https://tv-alsergrund.at/veranstaltung/24-schiesswettkampf/
LOCATION:Schützenhaus\, Schützenhaus\, Klosterneuburg\, United States
END:VEVENT
BEGIN:VEVENT
DTSTART;TZID=Europe/Vienna:20180113T180000
DTEND;TZID=Europe/Vienna:20180113T220000
DTSTAMP:20260419T234949
CREATED:20171124T155431Z
LAST-MODIFIED:20171124T155431Z
UID:2880-1515866400-1515880800@tv-alsergrund.at
SUMMARY:24. Schießwettkampf ab AK 65
DESCRIPTION:Meldeschluss: 08.01.2018  10:00
URL:https://tv-alsergrund.at/veranstaltung/24-schiesswettkampf-ab-ak-65/
LOCATION:Schützenhaus\, Schützenhaus\, Klosterneuburg\, United States
END:VEVENT
BEGIN:VEVENT
DTSTART;TZID=Europe/Vienna:20180112T183000
DTEND;TZID=Europe/Vienna:20180112T220000
DTSTAMP:20260419T234949
CREATED:20171124T155431Z
LAST-MODIFIED:20171124T155431Z
UID:2879-1515781800-1515794400@tv-alsergrund.at
SUMMARY:Nachtschirennen Semmering
DESCRIPTION:Meldeschluss: 09.01.2018  10:00
URL:https://tv-alsergrund.at/veranstaltung/nachtschirennen-semmering/
END:VEVENT
BEGIN:VEVENT
DTSTART;TZID=Europe/Berlin:20171125T173000
DTEND;TZID=Europe/Berlin:20171125T233000
DTSTAMP:20260419T234949
CREATED:20171018T111326Z
LAST-MODIFIED:20171018T111509Z
UID:2745-1511631000-1511652600@tv-alsergrund.at
SUMMARY:Jahresrückblick 2017
DESCRIPTION:
URL:https://tv-alsergrund.at/veranstaltung/jahresrueckblick-2017-2/
LOCATION:Zentrum 9\, Pulverturmgasse 11\, Wien\, 1090\, Österreich
END:VEVENT
BEGIN:VEVENT
DTSTART;TZID=Europe/Vienna:20171125T093000
DTEND;TZID=Europe/Vienna:20171125T130000
DTSTAMP:20260419T234949
CREATED:20170828T111345Z
LAST-MODIFIED:20171124T155431Z
UID:2403-1511602200-1511614800@tv-alsergrund.at
SUMMARY:Amtswaltertag
DESCRIPTION:Meldeschluss:
URL:https://tv-alsergrund.at/veranstaltung/amtswaltertag/
LOCATION:Nußwaldgasse 3\, Nußwaldgasse 3\, Wien\, 1190\, United States
END:VEVENT
BEGIN:VEVENT
DTSTART;TZID=Europe/Vienna:20171119T130000
DTEND;TZID=Europe/Vienna:20171119T183000
DTSTAMP:20260419T234949
CREATED:20170828T111345Z
LAST-MODIFIED:20170828T111345Z
UID:2402-1511096400-1511116200@tv-alsergrund.at
SUMMARY:Schwimmwettkampf
DESCRIPTION:Meldeschluss: 15.11.2017  10:00
URL:https://tv-alsergrund.at/veranstaltung/schwimmwettkampf/
LOCATION:Auf der Schmelz 6\, Auf der Schmelz 6\, Wien\, 1150\, Österreich
END:VEVENT
BEGIN:VEVENT
DTSTART;TZID=Europe/Vienna:20171112T080000
DTEND;TZID=Europe/Vienna:20171112T160000
DTSTAMP:20260419T234949
CREATED:20170828T111345Z
LAST-MODIFIED:20170828T111345Z
UID:2401-1510473600-1510502400@tv-alsergrund.at
SUMMARY:Mannschaftswettkampf Turnerinnen
DESCRIPTION:Meldeschluss: 03.11.2017  10:00
URL:https://tv-alsergrund.at/veranstaltung/mannschaftswettkampf-turnerinnen/
LOCATION:Schleifmühlgasse 23\, Schleifmühlgasse 23\, Wien\, 1040\, United States
END:VEVENT
BEGIN:VEVENT
DTSTART;TZID=Europe/Vienna:20171111T130000
DTEND;TZID=Europe/Vienna:20171111T190000
DTSTAMP:20260419T234949
CREATED:20170828T111345Z
LAST-MODIFIED:20170828T111345Z
UID:2400-1510405200-1510426800@tv-alsergrund.at
SUMMARY:Mannschaftswettkampf Turner
DESCRIPTION:Meldeschluss: 03.11.2017  10:00
URL:https://tv-alsergrund.at/veranstaltung/mannschaftswettkampf-turner/
LOCATION:Schleifmühlgasse 23\, Schleifmühlgasse 23\, Wien\, 1040\, United States
END:VEVENT
BEGIN:VEVENT
DTSTART;TZID=Europe/Vienna:20171103T180000
DTEND;TZID=Europe/Vienna:20171103T190000
DTSTAMP:20260419T234949
CREATED:20170828T111344Z
LAST-MODIFIED:20170828T111344Z
UID:2399-1509732000-1509735600@tv-alsergrund.at
SUMMARY:Totengedenken
DESCRIPTION:Meldeschluss:
URL:https://tv-alsergrund.at/veranstaltung/totengedenken/
LOCATION:Leopoldsberg\, Leopoldsberg\, Wien\, Österreich
END:VEVENT
BEGIN:VEVENT
DTSTART;TZID=Europe/Vienna:20171026T160000
DTEND;TZID=Europe/Vienna:20171026T200000
DTSTAMP:20260419T234949
CREATED:20170828T111343Z
LAST-MODIFIED:20170828T111343Z
UID:2398-1509033600-1509048000@tv-alsergrund.at
SUMMARY:Jugendvolkstanzfest
DESCRIPTION:Meldeschluss:
URL:https://tv-alsergrund.at/veranstaltung/jugendvolkstanzfest/
LOCATION:Klosterneuburger Straße 20\, Klosterneuburger Straße 20\, Langenzersdorf\, 2103\, Österreich
END:VEVENT
BEGIN:VEVENT
DTSTART;TZID=Europe/Berlin:20171021T183000
DTEND;TZID=Europe/Berlin:20171022T040000
DTSTAMP:20260419T234949
CREATED:20170828T111343Z
LAST-MODIFIED:20170828T122534Z
UID:2395-1508610600-1508644800@tv-alsergrund.at
SUMMARY:Oktoberfest TV Alsergrund
DESCRIPTION:Meldeschluss:
URL:https://tv-alsergrund.at/veranstaltung/oktoberfest-tv-alsergrund/
LOCATION:Bleichergasse 11\, Bleichergasse 11\, Wien\, 1090\, Österreich
END:VEVENT
BEGIN:VEVENT
DTSTART;TZID=Europe/Vienna:20171020T190000
DTEND;TZID=Europe/Vienna:20171020T210000
DTSTAMP:20260419T234949
CREATED:20170828T111343Z
LAST-MODIFIED:20170828T111343Z
UID:2397-1508526000-1508533200@tv-alsergrund.at
SUMMARY:Turnratssitzung ÖTB Wien
DESCRIPTION:Meldeschluss:
URL:https://tv-alsergrund.at/veranstaltung/turnratssitzung-oetb-wien/
LOCATION:Ferdinandstraße 26\, Ferdinandstraße 26\, Wien\, 1020\, United States
END:VEVENT
BEGIN:VEVENT
DTSTART;TZID=Europe/Vienna:20171015T090000
DTEND;TZID=Europe/Vienna:20171015T170000
DTSTAMP:20260419T234949
CREATED:20170828T111343Z
LAST-MODIFIED:20170828T111343Z
UID:2396-1508058000-1508086800@tv-alsergrund.at
SUMMARY:Rätselwanderung
DESCRIPTION:Meldeschluss: 11.10.2017  10:00
URL:https://tv-alsergrund.at/veranstaltung/raetselwanderung/
LOCATION:Mölker Bastei 14\, Mölker Bastei 14\, Wien\, 1010\, Österreich
END:VEVENT
BEGIN:VEVENT
DTSTART;TZID=Europe/Vienna:20171008T080000
DTEND;TZID=Europe/Vienna:20171008T180000
DTSTAMP:20260419T234949
CREATED:20170828T111343Z
LAST-MODIFIED:20170828T111343Z
UID:2394-1507449600-1507485600@tv-alsergrund.at
SUMMARY:31. Breitenturntag
DESCRIPTION:Meldeschluss: 29.09.2017  10:00
URL:https://tv-alsergrund.at/veranstaltung/31-breitenturntag/
LOCATION:Theodorg Kramer-Straße 3\, Theodorg Kramer-Straße 3\, Wien\, 1220\, Österreich
END:VEVENT
BEGIN:VEVENT
DTSTART;TZID=Europe/Vienna:20171007T130000
DTEND;TZID=Europe/Vienna:20171007T180000
DTSTAMP:20260419T234949
CREATED:20170828T111343Z
LAST-MODIFIED:20170828T111343Z
UID:2393-1507381200-1507399200@tv-alsergrund.at
SUMMARY:Gerzielwurf Vergleichswettkampf
DESCRIPTION:Meldeschluss: 06.10.2017  10:00
URL:https://tv-alsergrund.at/veranstaltung/gerzielwurf-vergleichswettkampf/
LOCATION:Jahngasse 17\, Jahngasse 17\, Klosterneuburg\, 3400\, Österreich
END:VEVENT
BEGIN:VEVENT
DTSTART;TZID=Europe/Vienna:20171001T090000
DTEND;TZID=Europe/Vienna:20171001T140000
DTSTAMP:20260419T234949
CREATED:20170828T111342Z
LAST-MODIFIED:20170828T111342Z
UID:2392-1506848400-1506866400@tv-alsergrund.at
SUMMARY:Waldlauf Klosterneuburg
DESCRIPTION:Meldeschluss: 27.09.2017  10:00
URL:https://tv-alsergrund.at/veranstaltung/waldlauf-klosterneuburg/
LOCATION:Schützenhaus beim Freizeitzentrum Happyland\, An der Au 3\, Klosterneuburg\, 3400\, Österreich
END:VEVENT
BEGIN:VEVENT
DTSTART;TZID=Europe/Vienna:20170930T100000
DTEND;TZID=Europe/Vienna:20170930T170000
DTSTAMP:20260419T234949
CREATED:20170828T111342Z
LAST-MODIFIED:20170828T111342Z
UID:2391-1506765600-1506790800@tv-alsergrund.at
SUMMARY:Prellballmeisterschaft
DESCRIPTION:Meldeschluss: 27.09.2017  10:00
URL:https://tv-alsergrund.at/veranstaltung/prellballmeisterschaft/
LOCATION:Schleifmühlgasse 23\, Schleifmühlgasse 23\, Wien\, 1040\, United States
END:VEVENT
BEGIN:VEVENT
DTSTART;TZID=Europe/Vienna:20170924T093000
DTEND;TZID=Europe/Vienna:20170924T140000
DTSTAMP:20260419T234949
CREATED:20170828T111342Z
LAST-MODIFIED:20170828T111342Z
UID:2390-1506245400-1506261600@tv-alsergrund.at
SUMMARY:Hörndlwaldlauf
DESCRIPTION:Meldeschluss: 20.09.2017  10:00
URL:https://tv-alsergrund.at/veranstaltung/hoerndlwaldlauf/
LOCATION:Joseph Lister-Gasse\, Joseph Lister-Gasse\, Wien\, 1140\, Österreich
END:VEVENT
BEGIN:VEVENT
DTSTART;TZID=Europe/Vienna:20170923T100000
DTEND;TZID=Europe/Vienna:20170923T180000
DTSTAMP:20260419T234949
CREATED:20170828T111339Z
LAST-MODIFIED:20170828T111339Z
UID:2389-1506160800-1506189600@tv-alsergrund.at
SUMMARY:Tag des Sports
DESCRIPTION:Meldeschluss:
URL:https://tv-alsergrund.at/veranstaltung/tag-des-sports/
LOCATION:Parkplatz Ernst Happel-Stadion\, Parkplatz Ernst Happel-Stadion\, Wien\, 1020\, Österreich
END:VEVENT
BEGIN:VEVENT
DTSTART;TZID=Europe/Vienna:20170917T110000
DTEND;TZID=Europe/Vienna:20170917T153000
DTSTAMP:20260419T234949
CREATED:20170828T111339Z
LAST-MODIFIED:20170828T111339Z
UID:2388-1505646000-1505662200@tv-alsergrund.at
SUMMARY:Gerzielwurf
DESCRIPTION:Meldeschluss: 15.09.2017  10:00
URL:https://tv-alsergrund.at/veranstaltung/gerzielwurf/
LOCATION:Wildegg-Sittendorf\, Wildegg-Sittendorf\, Wildegg-Sittendorf\, Österreich
END:VEVENT
BEGIN:VEVENT
DTSTART;TZID=Europe/Vienna:20170917T083000
DTEND;TZID=Europe/Vienna:20170917T153000
DTSTAMP:20260419T234949
CREATED:20170828T111339Z
LAST-MODIFIED:20170828T111339Z
UID:2387-1505637000-1505662200@tv-alsergrund.at
SUMMARY:Bergturnfest Wildegg
DESCRIPTION:Meldeschluss: 15.09.2017  10:00
URL:https://tv-alsergrund.at/veranstaltung/bergturnfest-wildegg/
LOCATION:Wildegg-Sittendorf\, Wildegg-Sittendorf\, Wildegg-Sittendorf\, Österreich
END:VEVENT
BEGIN:VEVENT
DTSTART;TZID=Europe/Vienna:20170916T100000
DTEND;TZID=Europe/Vienna:20170917T153000
DTSTAMP:20260419T234949
CREATED:20170828T111339Z
LAST-MODIFIED:20170828T111339Z
UID:2386-1505556000-1505662200@tv-alsergrund.at
SUMMARY:Kinderlager Nachbesprechung
DESCRIPTION:Meldeschluss: 08.09.2017  23:59
URL:https://tv-alsergrund.at/veranstaltung/kinderlager-nachbesprechung/
LOCATION:Wildegger Straße\, Wildegger Straße\, Sittendorf\, 2393\, Österreich
END:VEVENT
END:VCALENDAR