BEGIN:VCALENDAR
VERSION:2.0
PRODID:-//Turnverein Alsergrund - ECPv6.15.16//NONSGML v1.0//EN
CALSCALE:GREGORIAN
METHOD:PUBLISH
X-WR-CALNAME:Turnverein Alsergrund
X-ORIGINAL-URL:https://tv-alsergrund.at
X-WR-CALDESC:Events for Turnverein Alsergrund
REFRESH-INTERVAL;VALUE=DURATION:PT1H
X-Robots-Tag:noindex
X-PUBLISHED-TTL:PT1H
BEGIN:VTIMEZONE
TZID:Europe/Vienna
BEGIN:DAYLIGHT
TZOFFSETFROM:+0100
TZOFFSETTO:+0200
TZNAME:CEST
DTSTART:20160327T010000
END:DAYLIGHT
BEGIN:STANDARD
TZOFFSETFROM:+0200
TZOFFSETTO:+0100
TZNAME:CET
DTSTART:20161030T010000
END:STANDARD
BEGIN:DAYLIGHT
TZOFFSETFROM:+0100
TZOFFSETTO:+0200
TZNAME:CEST
DTSTART:20170326T010000
END:DAYLIGHT
BEGIN:STANDARD
TZOFFSETFROM:+0200
TZOFFSETTO:+0100
TZNAME:CET
DTSTART:20171029T010000
END:STANDARD
BEGIN:DAYLIGHT
TZOFFSETFROM:+0100
TZOFFSETTO:+0200
TZNAME:CEST
DTSTART:20180325T010000
END:DAYLIGHT
BEGIN:STANDARD
TZOFFSETFROM:+0200
TZOFFSETTO:+0100
TZNAME:CET
DTSTART:20181028T010000
END:STANDARD
END:VTIMEZONE
BEGIN:VTIMEZONE
TZID:Europe/Berlin
BEGIN:DAYLIGHT
TZOFFSETFROM:+0100
TZOFFSETTO:+0200
TZNAME:CEST
DTSTART:20160327T010000
END:DAYLIGHT
BEGIN:STANDARD
TZOFFSETFROM:+0200
TZOFFSETTO:+0100
TZNAME:CET
DTSTART:20161030T010000
END:STANDARD
BEGIN:DAYLIGHT
TZOFFSETFROM:+0100
TZOFFSETTO:+0200
TZNAME:CEST
DTSTART:20170326T010000
END:DAYLIGHT
BEGIN:STANDARD
TZOFFSETFROM:+0200
TZOFFSETTO:+0100
TZNAME:CET
DTSTART:20171029T010000
END:STANDARD
BEGIN:DAYLIGHT
TZOFFSETFROM:+0100
TZOFFSETTO:+0200
TZNAME:CEST
DTSTART:20180325T010000
END:DAYLIGHT
BEGIN:STANDARD
TZOFFSETFROM:+0200
TZOFFSETTO:+0100
TZNAME:CET
DTSTART:20181028T010000
END:STANDARD
END:VTIMEZONE
BEGIN:VEVENT
DTSTART;TZID=Europe/Vienna:20171103T180000
DTEND;TZID=Europe/Vienna:20171103T190000
DTSTAMP:20260424T123922
CREATED:20170828T111344Z
LAST-MODIFIED:20170828T111344Z
UID:2399-1509732000-1509735600@tv-alsergrund.at
SUMMARY:Totengedenken
DESCRIPTION:Meldeschluss:
URL:https://tv-alsergrund.at/veranstaltung/totengedenken/
LOCATION:Leopoldsberg\, Leopoldsberg\, Wien\, Österreich
END:VEVENT
BEGIN:VEVENT
DTSTART;TZID=Europe/Vienna:20171111T130000
DTEND;TZID=Europe/Vienna:20171111T190000
DTSTAMP:20260424T123922
CREATED:20170828T111345Z
LAST-MODIFIED:20170828T111345Z
UID:2400-1510405200-1510426800@tv-alsergrund.at
SUMMARY:Mannschaftswettkampf Turner
DESCRIPTION:Meldeschluss: 03.11.2017  10:00
URL:https://tv-alsergrund.at/veranstaltung/mannschaftswettkampf-turner/
LOCATION:Schleifmühlgasse 23\, Schleifmühlgasse 23\, Wien\, 1040\, United States
END:VEVENT
BEGIN:VEVENT
DTSTART;TZID=Europe/Vienna:20171112T080000
DTEND;TZID=Europe/Vienna:20171112T160000
DTSTAMP:20260424T123922
CREATED:20170828T111345Z
LAST-MODIFIED:20170828T111345Z
UID:2401-1510473600-1510502400@tv-alsergrund.at
SUMMARY:Mannschaftswettkampf Turnerinnen
DESCRIPTION:Meldeschluss: 03.11.2017  10:00
URL:https://tv-alsergrund.at/veranstaltung/mannschaftswettkampf-turnerinnen/
LOCATION:Schleifmühlgasse 23\, Schleifmühlgasse 23\, Wien\, 1040\, United States
END:VEVENT
BEGIN:VEVENT
DTSTART;TZID=Europe/Vienna:20171119T130000
DTEND;TZID=Europe/Vienna:20171119T183000
DTSTAMP:20260424T123922
CREATED:20170828T111345Z
LAST-MODIFIED:20170828T111345Z
UID:2402-1511096400-1511116200@tv-alsergrund.at
SUMMARY:Schwimmwettkampf
DESCRIPTION:Meldeschluss: 15.11.2017  10:00
URL:https://tv-alsergrund.at/veranstaltung/schwimmwettkampf/
LOCATION:Auf der Schmelz 6\, Auf der Schmelz 6\, Wien\, 1150\, Österreich
END:VEVENT
BEGIN:VEVENT
DTSTART;TZID=Europe/Vienna:20171125T093000
DTEND;TZID=Europe/Vienna:20171125T130000
DTSTAMP:20260424T123922
CREATED:20170828T111345Z
LAST-MODIFIED:20171124T155431Z
UID:2403-1511602200-1511614800@tv-alsergrund.at
SUMMARY:Amtswaltertag
DESCRIPTION:Meldeschluss:
URL:https://tv-alsergrund.at/veranstaltung/amtswaltertag/
LOCATION:Nußwaldgasse 3\, Nußwaldgasse 3\, Wien\, 1190\, United States
END:VEVENT
BEGIN:VEVENT
DTSTART;TZID=Europe/Berlin:20171125T173000
DTEND;TZID=Europe/Berlin:20171125T233000
DTSTAMP:20260424T123922
CREATED:20171018T111326Z
LAST-MODIFIED:20171018T111509Z
UID:2745-1511631000-1511652600@tv-alsergrund.at
SUMMARY:Jahresrückblick 2017
DESCRIPTION:
URL:https://tv-alsergrund.at/veranstaltung/jahresrueckblick-2017-2/
LOCATION:Zentrum 9\, Pulverturmgasse 11\, Wien\, 1090\, Österreich
END:VEVENT
END:VCALENDAR