BEGIN:VCALENDAR
VERSION:2.0
PRODID:-//Turnverein Alsergrund - ECPv6.15.16//NONSGML v1.0//EN
CALSCALE:GREGORIAN
METHOD:PUBLISH
X-ORIGINAL-URL:https://tv-alsergrund.at
X-WR-CALDESC:Events for Turnverein Alsergrund
REFRESH-INTERVAL;VALUE=DURATION:PT1H
X-Robots-Tag:noindex
X-PUBLISHED-TTL:PT1H
BEGIN:VTIMEZONE
TZID:Europe/Vienna
BEGIN:DAYLIGHT
TZOFFSETFROM:+0100
TZOFFSETTO:+0200
TZNAME:CEST
DTSTART:20170326T010000
END:DAYLIGHT
BEGIN:STANDARD
TZOFFSETFROM:+0200
TZOFFSETTO:+0100
TZNAME:CET
DTSTART:20171029T010000
END:STANDARD
BEGIN:DAYLIGHT
TZOFFSETFROM:+0100
TZOFFSETTO:+0200
TZNAME:CEST
DTSTART:20180325T010000
END:DAYLIGHT
BEGIN:STANDARD
TZOFFSETFROM:+0200
TZOFFSETTO:+0100
TZNAME:CET
DTSTART:20181028T010000
END:STANDARD
BEGIN:DAYLIGHT
TZOFFSETFROM:+0100
TZOFFSETTO:+0200
TZNAME:CEST
DTSTART:20190331T010000
END:DAYLIGHT
BEGIN:STANDARD
TZOFFSETFROM:+0200
TZOFFSETTO:+0100
TZNAME:CET
DTSTART:20191027T010000
END:STANDARD
END:VTIMEZONE
BEGIN:VEVENT
DTSTART;TZID=Europe/Vienna:20180501T080000
DTEND;TZID=Europe/Vienna:20180501T080000
DTSTAMP:20260424T043818
CREATED:20180115T103925Z
LAST-MODIFIED:20180115T103925Z
UID:2958-1525161600-1525161600@tv-alsergrund.at
SUMMARY:Maibaumaufstellen
DESCRIPTION:
URL:https://tv-alsergrund.at/veranstaltung/maibaumaufstellen/
LOCATION:Wien
END:VEVENT
BEGIN:VEVENT
DTSTART;TZID=Europe/Vienna:20180505T100000
DTEND;TZID=Europe/Vienna:20180505T160000
DTSTAMP:20260424T043818
CREATED:20180115T103925Z
LAST-MODIFIED:20180115T103925Z
UID:2959-1525514400-1525536000@tv-alsergrund.at
SUMMARY:Leichtathletikmeisterschaft
DESCRIPTION:
URL:https://tv-alsergrund.at/veranstaltung/leichtathletikmeisterschaft/
LOCATION:Wien
END:VEVENT
BEGIN:VEVENT
DTSTART;TZID=Europe/Vienna:20180510T084500
DTEND;TZID=Europe/Vienna:20180510T150000
DTSTAMP:20260424T043818
CREATED:20180115T104001Z
LAST-MODIFIED:20180115T104001Z
UID:2960-1525941900-1525964400@tv-alsergrund.at
SUMMARY:WATV 131. Stiftungswettkampf
DESCRIPTION:
URL:https://tv-alsergrund.at/veranstaltung/watv-131-stiftungswettkampf/
LOCATION:Wien
END:VEVENT
BEGIN:VEVENT
DTSTART;TZID=Europe/Vienna:20180527T093000
DTEND;TZID=Europe/Vienna:20180527T150000
DTSTAMP:20260424T043818
CREATED:20180115T104002Z
LAST-MODIFIED:20180115T104002Z
UID:2961-1527413400-1527433200@tv-alsergrund.at
SUMMARY:Johann-Pichler-Crosslauf
DESCRIPTION:
URL:https://tv-alsergrund.at/veranstaltung/johann-pichler-crosslauf-3/
LOCATION:Wien
END:VEVENT
END:VCALENDAR