BEGIN:VCALENDAR
VERSION:2.0
PRODID:-//Turnverein Alsergrund - ECPv6.15.16//NONSGML v1.0//EN
CALSCALE:GREGORIAN
METHOD:PUBLISH
X-ORIGINAL-URL:https://tv-alsergrund.at
X-WR-CALDESC:Events for Turnverein Alsergrund
REFRESH-INTERVAL;VALUE=DURATION:PT1H
X-Robots-Tag:noindex
X-PUBLISHED-TTL:PT1H
BEGIN:VTIMEZONE
TZID:Europe/Vienna
BEGIN:DAYLIGHT
TZOFFSETFROM:+0100
TZOFFSETTO:+0200
TZNAME:CEST
DTSTART:20170326T010000
END:DAYLIGHT
BEGIN:STANDARD
TZOFFSETFROM:+0200
TZOFFSETTO:+0100
TZNAME:CET
DTSTART:20171029T010000
END:STANDARD
BEGIN:DAYLIGHT
TZOFFSETFROM:+0100
TZOFFSETTO:+0200
TZNAME:CEST
DTSTART:20180325T010000
END:DAYLIGHT
BEGIN:STANDARD
TZOFFSETFROM:+0200
TZOFFSETTO:+0100
TZNAME:CET
DTSTART:20181028T010000
END:STANDARD
BEGIN:DAYLIGHT
TZOFFSETFROM:+0100
TZOFFSETTO:+0200
TZNAME:CEST
DTSTART:20190331T010000
END:DAYLIGHT
BEGIN:STANDARD
TZOFFSETFROM:+0200
TZOFFSETTO:+0100
TZNAME:CET
DTSTART:20191027T010000
END:STANDARD
END:VTIMEZONE
BEGIN:VEVENT
DTSTART;TZID=Europe/Vienna:20181006T100000
DTEND;TZID=Europe/Vienna:20181006T170000
DTSTAMP:20260423T221903
CREATED:20180115T104623Z
LAST-MODIFIED:20180115T104623Z
UID:2970-1538820000-1538845200@tv-alsergrund.at
SUMMARY:2er Prellball
DESCRIPTION:
URL:https://tv-alsergrund.at/veranstaltung/2er-prellball/
LOCATION:Wien
END:VEVENT
BEGIN:VEVENT
DTSTART;TZID=Europe/Vienna:20181007T090000
DTEND;TZID=Europe/Vienna:20181007T140000
DTSTAMP:20260423T221903
CREATED:20180115T104623Z
LAST-MODIFIED:20180115T104623Z
UID:2971-1538902800-1538920800@tv-alsergrund.at
SUMMARY:Waldlauf Klosterneuburg
DESCRIPTION:
URL:https://tv-alsergrund.at/veranstaltung/waldlauf-klosterneuburg-2/
LOCATION:Wien
END:VEVENT
BEGIN:VEVENT
DTSTART;TZID=Europe/Vienna:20181014T080000
DTEND;TZID=Europe/Vienna:20181014T170000
DTSTAMP:20260423T221903
CREATED:20180115T104623Z
LAST-MODIFIED:20180115T104623Z
UID:2972-1539504000-1539536400@tv-alsergrund.at
SUMMARY:33. Breitenturntag
DESCRIPTION:
URL:https://tv-alsergrund.at/veranstaltung/33-breitenturntag/
LOCATION:Wien
END:VEVENT
BEGIN:VEVENT
DTSTART;TZID=Europe/Vienna:20181019T190000
DTEND;TZID=Europe/Vienna:20181019T210000
DTSTAMP:20260423T221903
CREATED:20180115T104623Z
LAST-MODIFIED:20180115T104623Z
UID:2973-1539975600-1539982800@tv-alsergrund.at
SUMMARY:Turnratssitzung ÖTB Wien
DESCRIPTION:
URL:https://tv-alsergrund.at/veranstaltung/turnratssitzung-oetb-wien-2/
LOCATION:Wien
END:VEVENT
BEGIN:VEVENT
DTSTART;TZID=Europe/Vienna:20181020T183000
DTEND;TZID=Europe/Vienna:20181021T040000
DTSTAMP:20260423T221903
CREATED:20181005T144746Z
LAST-MODIFIED:20181010T100918Z
UID:3709-1540060200-1540094400@tv-alsergrund.at
SUMMARY:Oktoberfest 2018
DESCRIPTION:Einladung 18 Oktoberfest
URL:https://tv-alsergrund.at/veranstaltung/oktoberfest-2018/
LOCATION:Bleichergasse 11\, Bleichergasse 11\, Wien\, 1090\, Österreich
END:VEVENT
BEGIN:VEVENT
DTSTART;TZID=Europe/Vienna:20181021T090000
DTEND;TZID=Europe/Vienna:20181021T160000
DTSTAMP:20260423T221903
CREATED:20180115T104623Z
LAST-MODIFIED:20180115T104623Z
UID:2974-1540112400-1540137600@tv-alsergrund.at
SUMMARY:Rätselwanderung
DESCRIPTION:
URL:https://tv-alsergrund.at/veranstaltung/raetselwanderung-2/
LOCATION:Wien
END:VEVENT
BEGIN:VEVENT
DTSTART;TZID=Europe/Vienna:20181025T180000
DTEND;TZID=Europe/Vienna:20181028T180000
DTSTAMP:20260423T221903
CREATED:20180115T104940Z
LAST-MODIFIED:20180115T104940Z
UID:2975-1540490400-1540749600@tv-alsergrund.at
SUMMARY:Jugend steigt auf - 3. Teil
DESCRIPTION:
URL:https://tv-alsergrund.at/veranstaltung/jugend-steigt-auf-3-teil/
LOCATION:Wien
END:VEVENT
BEGIN:VEVENT
DTSTART;TZID=Europe/Vienna:20181026T140000
DTEND;TZID=Europe/Vienna:20181026T160000
DTSTAMP:20260423T221903
CREATED:20180115T104940Z
LAST-MODIFIED:20180115T104940Z
UID:2976-1540562400-1540569600@tv-alsergrund.at
SUMMARY:Rede-\, Lese- und Begriffserklärungswettbewerb
DESCRIPTION:
URL:https://tv-alsergrund.at/veranstaltung/rede-lese-und-begriffserklaerungswettbewerb/
LOCATION:Wien
END:VEVENT
BEGIN:VEVENT
DTSTART;TZID=Europe/Vienna:20181026T160000
DTEND;TZID=Europe/Vienna:20181026T210000
DTSTAMP:20260423T221903
CREATED:20180115T104940Z
LAST-MODIFIED:20180115T104940Z
UID:2977-1540569600-1540587600@tv-alsergrund.at
SUMMARY:Jugendvolkstanz
DESCRIPTION:
URL:https://tv-alsergrund.at/veranstaltung/jugendvolkstanz/
LOCATION:Wien
END:VEVENT
END:VCALENDAR