BEGIN:VCALENDAR
VERSION:2.0
PRODID:-//Turnverein Alsergrund - ECPv6.15.16//NONSGML v1.0//EN
CALSCALE:GREGORIAN
METHOD:PUBLISH
X-ORIGINAL-URL:https://tv-alsergrund.at
X-WR-CALDESC:Events for Turnverein Alsergrund
REFRESH-INTERVAL;VALUE=DURATION:PT1H
X-Robots-Tag:noindex
X-PUBLISHED-TTL:PT1H
BEGIN:VTIMEZONE
TZID:Europe/Vienna
BEGIN:DAYLIGHT
TZOFFSETFROM:+0100
TZOFFSETTO:+0200
TZNAME:CEST
DTSTART:20180325T010000
END:DAYLIGHT
BEGIN:STANDARD
TZOFFSETFROM:+0200
TZOFFSETTO:+0100
TZNAME:CET
DTSTART:20181028T010000
END:STANDARD
BEGIN:DAYLIGHT
TZOFFSETFROM:+0100
TZOFFSETTO:+0200
TZNAME:CEST
DTSTART:20190331T010000
END:DAYLIGHT
BEGIN:STANDARD
TZOFFSETFROM:+0200
TZOFFSETTO:+0100
TZNAME:CET
DTSTART:20191027T010000
END:STANDARD
BEGIN:DAYLIGHT
TZOFFSETFROM:+0100
TZOFFSETTO:+0200
TZNAME:CEST
DTSTART:20200329T010000
END:DAYLIGHT
BEGIN:STANDARD
TZOFFSETFROM:+0200
TZOFFSETTO:+0100
TZNAME:CET
DTSTART:20201025T010000
END:STANDARD
END:VTIMEZONE
BEGIN:VEVENT
DTSTART;TZID=Europe/Vienna:20190310T100000
DTEND;TZID=Europe/Vienna:20190310T170000
DTSTAMP:20260423T140946
CREATED:20190204T222305Z
LAST-MODIFIED:20190204T222511Z
UID:4298-1552212000-1552237200@tv-alsergrund.at
SUMMARY:ÖTB Wien Schi- und Snowboardmeisterschaft und Crossbewerbe 2019
DESCRIPTION:http://www.oetbwien.at/Dokumente/Termine/2019-03-10-Annaberg.pdf?636848867442666587 \n 
URL:https://tv-alsergrund.at/veranstaltung/oetb-wien-schi-und-snowboardmeisterschaft-und-crossbewerbe-2019/
LOCATION:Annaberg (Skigebiet)\, 126\, Annarotte\, Niederösterreich\, 3222\, Österreich
END:VEVENT
BEGIN:VEVENT
DTSTART;TZID=Europe/Vienna:20190316T140000
DTEND;TZID=Europe/Vienna:20190316T200000
DTSTAMP:20260423T140946
CREATED:20190204T222410Z
LAST-MODIFIED:20190204T222443Z
UID:4301-1552744800-1552766400@tv-alsergrund.at
SUMMARY:Basketballturnier 2019
DESCRIPTION:
URL:https://tv-alsergrund.at/veranstaltung/basketballturnier-2019/
LOCATION:Florian Hedorfer-Straße 24\, Florian Hedorfer-Straße 24\, Wien\, 1110\, United States
END:VEVENT
BEGIN:VEVENT
DTSTART;TZID=Europe/Vienna:20190316T193000
DTEND;TZID=Europe/Vienna:20190317T030000
DTSTAMP:20260423T140946
CREATED:20190204T222617Z
LAST-MODIFIED:20190204T222617Z
UID:4305-1552764600-1552791600@tv-alsergrund.at
SUMMARY:Dirndlball 2019
DESCRIPTION:
URL:https://tv-alsergrund.at/veranstaltung/dirndlball-2019/
LOCATION:Klosterneuburger Straße 20\, Klosterneuburger Straße 20\, Langenzersdorf\, 2103\, Österreich
END:VEVENT
BEGIN:VEVENT
DTSTART;TZID=Europe/Vienna:20190323T140000
DTEND;TZID=Europe/Vienna:20190323T200000
DTSTAMP:20260423T140946
CREATED:20190204T222902Z
LAST-MODIFIED:20190204T222902Z
UID:4309-1553349600-1553371200@tv-alsergrund.at
SUMMARY:Volleyballturnier 2019
DESCRIPTION:
URL:https://tv-alsergrund.at/veranstaltung/volleyballturnier-2019/
LOCATION:Florian Hedorfer-Straße 24\, Florian Hedorfer-Straße 24\, Wien\, 1110\, United States
END:VEVENT
BEGIN:VEVENT
DTSTART;TZID=Europe/Vienna:20190331T083000
DTEND;TZID=Europe/Vienna:20190331T190000
DTSTAMP:20260423T140946
CREATED:20190204T222936Z
LAST-MODIFIED:20190204T222936Z
UID:4311-1554021000-1554058800@tv-alsergrund.at
SUMMARY:Turn10-Meisterschaft ÖTB Wien 2019
DESCRIPTION:
URL:https://tv-alsergrund.at/veranstaltung/turn10-meisterschaft-oetb-wien-2019/
LOCATION:Wien
END:VEVENT
END:VCALENDAR