BEGIN:VCALENDAR
VERSION:2.0
PRODID:-//Turnverein Alsergrund - ECPv6.15.16//NONSGML v1.0//EN
CALSCALE:GREGORIAN
METHOD:PUBLISH
X-WR-CALNAME:Turnverein Alsergrund
X-ORIGINAL-URL:https://tv-alsergrund.at
X-WR-CALDESC:Events for Turnverein Alsergrund
REFRESH-INTERVAL;VALUE=DURATION:PT1H
X-Robots-Tag:noindex
X-PUBLISHED-TTL:PT1H
BEGIN:VTIMEZONE
TZID:Europe/Vienna
BEGIN:DAYLIGHT
TZOFFSETFROM:+0100
TZOFFSETTO:+0200
TZNAME:CEST
DTSTART:20180325T010000
END:DAYLIGHT
BEGIN:STANDARD
TZOFFSETFROM:+0200
TZOFFSETTO:+0100
TZNAME:CET
DTSTART:20181028T010000
END:STANDARD
BEGIN:DAYLIGHT
TZOFFSETFROM:+0100
TZOFFSETTO:+0200
TZNAME:CEST
DTSTART:20190331T010000
END:DAYLIGHT
BEGIN:STANDARD
TZOFFSETFROM:+0200
TZOFFSETTO:+0100
TZNAME:CET
DTSTART:20191027T010000
END:STANDARD
BEGIN:DAYLIGHT
TZOFFSETFROM:+0100
TZOFFSETTO:+0200
TZNAME:CEST
DTSTART:20200329T010000
END:DAYLIGHT
BEGIN:STANDARD
TZOFFSETFROM:+0200
TZOFFSETTO:+0100
TZNAME:CET
DTSTART:20201025T010000
END:STANDARD
END:VTIMEZONE
BEGIN:VEVENT
DTSTART;TZID=Europe/Vienna:20190505T100000
DTEND;TZID=Europe/Vienna:20190505T140000
DTSTAMP:20260423T113734
CREATED:20190204T223135Z
LAST-MODIFIED:20190204T223135Z
UID:4315-1557050400-1557064800@tv-alsergrund.at
SUMMARY:Johann-Pichler-Crosslauf 2019
DESCRIPTION:
URL:https://tv-alsergrund.at/veranstaltung/johann-pichler-crosslauf-2019/
LOCATION:Bundespielplatz Birkenwiese\, Bundespielplatz Birkenwiese\, Wien\, 1020\, United States
END:VEVENT
BEGIN:VEVENT
DTSTART;TZID=Europe/Vienna:20190511T100000
DTEND;TZID=Europe/Vienna:20190511T160000
DTSTAMP:20260423T113734
CREATED:20190204T223213Z
LAST-MODIFIED:20190204T223213Z
UID:4317-1557568800-1557590400@tv-alsergrund.at
SUMMARY:ÖTB-Wien-LA-Meisterschaft 2019
DESCRIPTION:
URL:https://tv-alsergrund.at/veranstaltung/oetb-wien-la-meisterschaft-2019/
LOCATION:Grenzackerstraße 23\, Grenzackerstraße 23\, Wien\, 1100\, United States
END:VEVENT
BEGIN:VEVENT
DTSTART;TZID=Europe/Vienna:20190530T084500
DTEND;TZID=Europe/Vienna:20190530T150000
DTSTAMP:20260423T113734
CREATED:20190204T223302Z
LAST-MODIFIED:20190204T223302Z
UID:4319-1559205900-1559228400@tv-alsergrund.at
SUMMARY:132. WATV-Stifungswettkampf 2019
DESCRIPTION:
URL:https://tv-alsergrund.at/veranstaltung/132-watv-stifungswettkampf-2019/
LOCATION:Bundessportplatz Jahnwiese im Augarten\, Bundessportplatz Jahnwiese im Augarten\, Wien\, 1200\, United States
END:VEVENT
END:VCALENDAR